BEGIN:VCALENDAR
VERSION:2.0
PRODID:-//RU-N SGA - ECPv6.7.0//NONSGML v1.0//EN
CALSCALE:GREGORIAN
METHOD:PUBLISH
X-WR-CALNAME:RU-N SGA
X-ORIGINAL-URL:https://sites.rutgers.edu/newark-sga
X-WR-CALDESC:Events for RU-N SGA
REFRESH-INTERVAL;VALUE=DURATION:PT1H
X-Robots-Tag:noindex
X-PUBLISHED-TTL:PT1H
BEGIN:VTIMEZONE
TZID:UTC
BEGIN:STANDARD
TZOFFSETFROM:+0000
TZOFFSETTO:+0000
TZNAME:UTC
DTSTART:20250101T000000
END:STANDARD
END:VTIMEZONE
BEGIN:VEVENT
DTSTART;TZID=UTC:20250220T120000
DTEND;TZID=UTC:20250220T143000
DTSTAMP:20260422T162625
CREATED:20250217T211552Z
LAST-MODIFIED:20250217T211552Z
UID:822-1740052800-1740061800@sites.rutgers.edu
SUMMARY:Open Forum Spring 2025
DESCRIPTION:Come hear your elected representatives present their initiatives for the semester! Enjoy free food and drinks as well as a chance to earn $3\,500 in prizes! This event is in the Bergen Room.
URL:https://sites.rutgers.edu/newark-sga/event/open-forum-spring-2025/
LOCATION:Bergen Room 255 – Paul Robeson Campus Center
CATEGORIES:Public Events,Workshop
END:VEVENT
END:VCALENDAR