BEGIN:VCALENDAR
VERSION:2.0
PRODID:-//RU-N SGA - ECPv6.7.0//NONSGML v1.0//EN
CALSCALE:GREGORIAN
METHOD:PUBLISH
X-WR-CALNAME:RU-N SGA
X-ORIGINAL-URL:https://sites.rutgers.edu/newark-sga
X-WR-CALDESC:Events for RU-N SGA
REFRESH-INTERVAL;VALUE=DURATION:PT1H
X-Robots-Tag:noindex
X-PUBLISHED-TTL:PT1H
BEGIN:VTIMEZONE
TZID:UTC
BEGIN:STANDARD
TZOFFSETFROM:+0000
TZOFFSETTO:+0000
TZNAME:UTC
DTSTART:20250101T000000
END:STANDARD
END:VTIMEZONE
BEGIN:VEVENT
DTSTART;TZID=UTC:20250224T113000
DTEND;TZID=UTC:20250224T125000
DTSTAMP:20260422T164244
CREATED:20250211T215403Z
LAST-MODIFIED:20250217T205842Z
UID:601-1740396600-1740401400@sites.rutgers.edu
SUMMARY:General Body Meeting 2/24/2025
DESCRIPTION:General Body Meeting in the Bergen Room
URL:https://sites.rutgers.edu/newark-sga/event/general-body-meeting-2-24-2025/
LOCATION:Bergen Room 255 – Paul Robeson Campus Center
CATEGORIES:Public Events
END:VEVENT
END:VCALENDAR