BEGIN:VCALENDAR
VERSION:2.0
PRODID:-//Infectious Diseases Practice - ECPv6.7.0//NONSGML v1.0//EN
CALSCALE:GREGORIAN
METHOD:PUBLISH
X-WR-CALNAME:Infectious Diseases Practice
X-ORIGINAL-URL:https://sites.rutgers.edu/njms-idp
X-WR-CALDESC:Events for Infectious Diseases Practice
REFRESH-INTERVAL;VALUE=DURATION:PT1H
X-Robots-Tag:noindex
X-PUBLISHED-TTL:PT1H
BEGIN:VTIMEZONE
TZID:UTC
BEGIN:STANDARD
TZOFFSETFROM:+0000
TZOFFSETTO:+0000
TZNAME:UTC
DTSTART:20200101T000000
END:STANDARD
TZID:America/New_York
BEGIN:DAYLIGHT
TZOFFSETFROM:-0500
TZOFFSETTO:-0400
TZNAME:EDT
DTSTART:20200308T070000
END:DAYLIGHT
BEGIN:STANDARD
TZOFFSETFROM:-0400
TZOFFSETTO:-0500
TZNAME:EST
DTSTART:20201101T060000
END:STANDARD
END:VTIMEZONE
BEGIN:VEVENT
DTSTART;TZID=UTC:20210718T140000
DTEND;TZID=UTC:20210718T200000
DTSTAMP:20260420T184100
CREATED:20210716T125305Z
LAST-MODIFIED:20210716T131454Z
UID:1355-1626616800-1626638400@sites.rutgers.edu
SUMMARY:Newark Pride | Pride In The Park
DESCRIPTION:Join Rutgers IDP as we will be tabling at Pride In The Park this Sunday\, July 18th!  Come meet the team\, learn more about the work we do\, and have a great time!  We hope to see you then!
URL:https://sites.rutgers.edu/njms-idp/event/newark-pride-pride-in-the-park/
CATEGORIES:Public Events
END:VEVENT
BEGIN:VEVENT
DTSTART;VALUE=DATE:20201201
DTEND;VALUE=DATE:20201202
DTSTAMP:20260420T184100
CREATED:20200328T172251Z
LAST-MODIFIED:20200328T172251Z
UID:461-1606780800-1606867199@sites.rutgers.edu
SUMMARY:World AIDS Day
DESCRIPTION:
URL:https://sites.rutgers.edu/njms-idp/event/world-aids-day/
END:VEVENT
BEGIN:VEVENT
DTSTART;TZID=UTC:20200821T120000
DTEND;TZID=UTC:20200821T130000
DTSTAMP:20260420T184100
CREATED:20200817T174947Z
LAST-MODIFIED:20200817T174947Z
UID:1175-1598011200-1598014800@sites.rutgers.edu
SUMMARY:Come Together: Virtual Stakeholder Series
DESCRIPTION:
URL:https://sites.rutgers.edu/njms-idp/event/come-together-virtual-stakeholder-series/
END:VEVENT
BEGIN:VEVENT
DTSTART;TZID=UTC:20200520T110000
DTEND;TZID=UTC:20200520T123000
DTSTAMP:20260420T184100
CREATED:20200505T181635Z
LAST-MODIFIED:20200505T181635Z
UID:1123-1589972400-1589977800@sites.rutgers.edu
SUMMARY:Community Advisory Board
DESCRIPTION:For more information on the Community Advisory Board\, or to learn how to join\n  \nPlease reach out to Madeline Corredor at:\n973-972-0746\ncorredma@njms.rutgers.edu
URL:https://sites.rutgers.edu/njms-idp/event/cab-may2020/
END:VEVENT
BEGIN:VEVENT
DTSTART;TZID=UTC:20200515T120000
DTEND;TZID=UTC:20200515T130000
DTSTAMP:20260420T184100
CREATED:20200428T191543Z
LAST-MODIFIED:20200428T191543Z
UID:1039-1589544000-1589547600@sites.rutgers.edu
SUMMARY:Come Together: VIRTUAL Real Talk Series
DESCRIPTION:Come Together Series… \nA stakeholder event series supporting networks across the greater Newark community. \nWho: YOU! \nWhere: WebEx Virtual Meeting Host \n(Register to receive WebEx link) \nWhen: Friday\, May 15th 2020 – 12pm-1pm \n**Due to the Covid-19 Pandemic our Come Together series will be hosted via WebEx. We will discuss the impact of Covid-19 and how our clinical research center is re-shaping its focus to help combat Covid-19.** \nWe’ll also speak on the future of HIV clinical research including the MOSAICO study (HIV Prevention Investigational Vaccine)\, how you can volunteer any other research inquiries you may have! Here is where we’ll engage in discussion about how far we have come and explore where we will go! \nAlso connect with us socially through Facebook and/or Instagram as we will be continuously updating everyone on the community work\, events and research opportunities we offer. \nFollow us on Facebook/Instagram: @Researchwithaheart \n-> Register Now! We hope to see you there… \nWE are Research with a Heart <3 \n**NOTE** This event is intended for Newark community members who are interested in HIV Prevention & Treatment Bio Medical Research
URL:https://sites.rutgers.edu/njms-idp/event/come-together-virtual-real-talk-series/
LOCATION:WebEx Virtual Meeting
CATEGORIES:Discussion
ATTACH;FMTTYPE=image/jpeg:https://sites.rutgers.edu/njms-idp/wp-content/uploads/sites/436/2020/04/thumbnail_image002.jpg
END:VEVENT
BEGIN:VEVENT
DTSTART;TZID=UTC:20200506T150000
DTEND;TZID=UTC:20200506T163000
DTSTAMP:20260420T184100
CREATED:20200428T192507Z
LAST-MODIFIED:20200428T192611Z
UID:1056-1588777200-1588782600@sites.rutgers.edu
SUMMARY:Research Community Advisory Board
DESCRIPTION:Upcoming Meeting Dates\nWednesday\, May 6\, 2020  |  3:00 – 4:30 PM \nWednesday\, June 3\, 2020  |  3:00 – 4:30 PM \nWednesday\, September 2\, 2020  |  3:00 – 4:30 PM \nWednesday\, October 7\, 2020  |  3:00 – 4:30 PM \nWednesday\, November 4\, 2020  |  3:00 – 4:30 PM \nWednesday\, December 2\, 2020  |  3:00 – 4:30 PM \n  \nNeed more information\, contact:\nJamir Tuten\n973-972-2928\nJamir.Tuten@rutgers.edu
URL:https://sites.rutgers.edu/njms-idp/event/research-community-advisory-board/
LOCATION:Teleconference
CATEGORIES:Discussion,Public Events
ATTACH;FMTTYPE=image/jpeg:https://sites.rutgers.edu/njms-idp/wp-content/uploads/sites/436/2020/04/thumbnail_image009.jpg
END:VEVENT
END:VCALENDAR