BEGIN:VCALENDAR
VERSION:2.0
PRODID:-//OOPN - ECPv6.7.0//NONSGML v1.0//EN
CALSCALE:GREGORIAN
METHOD:PUBLISH
X-ORIGINAL-URL:https://sites.rutgers.edu/oopn
X-WR-CALDESC:Events for OOPN
REFRESH-INTERVAL;VALUE=DURATION:PT1H
X-Robots-Tag:noindex
X-PUBLISHED-TTL:PT1H
BEGIN:VTIMEZONE
TZID:UTC
BEGIN:STANDARD
TZOFFSETFROM:+0000
TZOFFSETTO:+0000
TZNAME:UTC
DTSTART:20260101T000000
END:STANDARD
END:VTIMEZONE
BEGIN:VEVENT
DTSTART;TZID=UTC:20260605T123000
DTEND;TZID=UTC:20260605T133000
DTSTAMP:20260424T220310
CREATED:20260420T143225Z
LAST-MODIFIED:20260420T143225Z
UID:758-1780662600-1780666200@sites.rutgers.edu
SUMMARY:Virtual Monthly Naloxone (Narcan) Training
DESCRIPTION:Register Here\n  \nWe offer free Public Naloxone Training seven times per month. \nTraining attendees must be 18+ and reside\, work\, or attend school in New Jersey. \nEach attendee will receive a free Narcan kit after the training. Registration is capped at 25 participants per session and the Narcan kit will be shipped out (via UPS) within 7-10 business days after the presentation \nThe Naloxone Training is 60 minutes long and held live online via Zoom. \nPlease register beforehand and the Zoom link will be sent out the day before the event.
URL:https://sites.rutgers.edu/oopn/event/virtual-monthly-naloxone-narcan-training-28/
LOCATION:Virtual Zoom Training\, United States
CATEGORIES:Monthly Training
ATTACH;FMTTYPE=image/jpeg:https://sites.rutgers.edu/oopn/wp-content/uploads/sites/1519/2025/12/Narcan-Image.jpeg
ORGANIZER;CN="Rutgers RWJMS Division of Addiction Psychiatry":MAILTO:PreventOverdose@rwjms.rutgers.edu
END:VEVENT
BEGIN:VEVENT
DTSTART;TZID=UTC:20260610T170000
DTEND;TZID=UTC:20260610T180000
DTSTAMP:20260424T220310
CREATED:20260420T143409Z
LAST-MODIFIED:20260420T143409Z
UID:760-1781110800-1781114400@sites.rutgers.edu
SUMMARY:Virtual Monthly Naloxone (Narcan) Training
DESCRIPTION:Register Here\n  \nWe offer free Public Naloxone Training seven times per month. \nTraining attendees must be 18+ and reside\, work\, or attend school in New Jersey. \nEach attendee will receive a free Narcan kit after the training. Registration is capped at 25 participants per session and the Narcan kit will be shipped out (via UPS) within 7-10 business days after the presentation \nThe Naloxone Training is 60 minutes long and held live online via Zoom. \nPlease register beforehand and the Zoom link will be sent out the day before the event.
URL:https://sites.rutgers.edu/oopn/event/virtual-monthly-naloxone-narcan-training-29/
LOCATION:Virtual Zoom Training\, United States
CATEGORIES:Monthly Training
ATTACH;FMTTYPE=image/jpeg:https://sites.rutgers.edu/oopn/wp-content/uploads/sites/1519/2025/12/Narcan-Image.jpeg
ORGANIZER;CN="Rutgers RWJMS Division of Addiction Psychiatry":MAILTO:PreventOverdose@rwjms.rutgers.edu
END:VEVENT
BEGIN:VEVENT
DTSTART;TZID=UTC:20260611T110000
DTEND;TZID=UTC:20260611T120000
DTSTAMP:20260424T220310
CREATED:20260420T143603Z
LAST-MODIFIED:20260420T143603Z
UID:762-1781175600-1781179200@sites.rutgers.edu
SUMMARY:Virtual Monthly Naloxone (Narcan) Training
DESCRIPTION:Register Here\n  \nWe offer free Public Naloxone Training seven times per month. \nTraining attendees must be 18+ and reside\, work\, or attend school in New Jersey. \nEach attendee will receive a free Narcan kit after the training. Registration is capped at 25 participants per session and the Narcan kit will be shipped out (via UPS) within 7-10 business days after the presentation \nThe Naloxone Training is 60 minutes long and held live online via Zoom. \nPlease register beforehand and the Zoom link will be sent out the day before the event.
URL:https://sites.rutgers.edu/oopn/event/virtual-monthly-naloxone-narcan-training-30/
LOCATION:Virtual Zoom Training\, United States
CATEGORIES:Monthly Training
ATTACH;FMTTYPE=image/jpeg:https://sites.rutgers.edu/oopn/wp-content/uploads/sites/1519/2025/12/Narcan-Image.jpeg
ORGANIZER;CN="Rutgers RWJMS Division of Addiction Psychiatry":MAILTO:PreventOverdose@rwjms.rutgers.edu
END:VEVENT
BEGIN:VEVENT
DTSTART;TZID=UTC:20260617T130000
DTEND;TZID=UTC:20260617T140000
DTSTAMP:20260424T220310
CREATED:20260420T143811Z
LAST-MODIFIED:20260420T143811Z
UID:764-1781701200-1781704800@sites.rutgers.edu
SUMMARY:Virtual Monthly Naloxone (Narcan) Training
DESCRIPTION:Register Here\n  \nWe offer free Public Naloxone Training seven times per month. \nTraining attendees must be 18+ and reside\, work\, or attend school in New Jersey. \nEach attendee will receive a free Narcan kit after the training. Registration is capped at 25 participants per session and the Narcan kit will be shipped out (via UPS) within 7-10 business days after the presentation \nThe Naloxone Training is 60 minutes long and held live online via Zoom. \nPlease register beforehand and the Zoom link will be sent out the day before the event.
URL:https://sites.rutgers.edu/oopn/event/virtual-monthly-naloxone-narcan-training-31/
LOCATION:Virtual Zoom Training\, United States
CATEGORIES:Monthly Training
ATTACH;FMTTYPE=image/jpeg:https://sites.rutgers.edu/oopn/wp-content/uploads/sites/1519/2025/12/Narcan-Image.jpeg
ORGANIZER;CN="Rutgers RWJMS Division of Addiction Psychiatry":MAILTO:PreventOverdose@rwjms.rutgers.edu
END:VEVENT
BEGIN:VEVENT
DTSTART;TZID=UTC:20260617T170000
DTEND;TZID=UTC:20260617T180000
DTSTAMP:20260424T220310
CREATED:20260420T145255Z
LAST-MODIFIED:20260420T145255Z
UID:770-1781715600-1781719200@sites.rutgers.edu
SUMMARY:CEU Naloxone Training
DESCRIPTION:Register Here\nThis training is eligible for CE. There is a $5.00 fee to obtain the CE. \nTraining will take place via Zoom and kits will be shipped to attendees following the training.
URL:https://sites.rutgers.edu/oopn/event/ceu-naloxone-training-2/
LOCATION:Virtual Zoom Training\, United States
CATEGORIES:CEU Narcan Training
ATTACH;FMTTYPE=image/jpeg:https://sites.rutgers.edu/oopn/wp-content/uploads/sites/1519/2026/03/CEUs-2026-Training-e1774631410161.jpg
ORGANIZER;CN="Rutgers RWJMS Division of Addiction Psychiatry":MAILTO:PreventOverdose@rwjms.rutgers.edu
END:VEVENT
BEGIN:VEVENT
DTSTART;TZID=UTC:20260629T123000
DTEND;TZID=UTC:20260629T133000
DTSTAMP:20260424T220310
CREATED:20260420T144201Z
LAST-MODIFIED:20260420T144201Z
UID:766-1782736200-1782739800@sites.rutgers.edu
SUMMARY:Virtual Monthly Naloxone (Narcan) Training
DESCRIPTION:Register Here\n  \nWe offer free Public Naloxone Training seven times per month. \nTraining attendees must be 18+ and reside\, work\, or attend school in New Jersey. \nEach attendee will receive a free Narcan kit after the training. Registration is capped at 25 participants per session and the Narcan kit will be shipped out (via UPS) within 7-10 business days after the presentation \nThe Naloxone Training is 60 minutes long and held live online via Zoom. \nPlease register beforehand and the Zoom link will be sent out the day before the event.
URL:https://sites.rutgers.edu/oopn/event/virtual-monthly-naloxone-narcan-training-32/
LOCATION:Virtual Zoom Training\, United States
CATEGORIES:Monthly Training
ATTACH;FMTTYPE=image/jpeg:https://sites.rutgers.edu/oopn/wp-content/uploads/sites/1519/2025/12/Narcan-Image.jpeg
ORGANIZER;CN="Rutgers RWJMS Division of Addiction Psychiatry":MAILTO:PreventOverdose@rwjms.rutgers.edu
END:VEVENT
BEGIN:VEVENT
DTSTART;TZID=UTC:20260630T123000
DTEND;TZID=UTC:20260630T133000
DTSTAMP:20260424T220310
CREATED:20260420T144334Z
LAST-MODIFIED:20260420T144334Z
UID:768-1782822600-1782826200@sites.rutgers.edu
SUMMARY:Virtual Monthly Naloxone (Narcan) Training
DESCRIPTION:Register Here\n  \nWe offer free Public Naloxone Training seven times per month. \nTraining attendees must be 18+ and reside\, work\, or attend school in New Jersey. \nEach attendee will receive a free Narcan kit after the training. Registration is capped at 25 participants per session and the Narcan kit will be shipped out (via UPS) within 7-10 business days after the presentation \nThe Naloxone Training is 60 minutes long and held live online via Zoom. \nPlease register beforehand and the Zoom link will be sent out the day before the event.
URL:https://sites.rutgers.edu/oopn/event/virtual-monthly-naloxone-narcan-training-33/
LOCATION:Virtual Zoom Training\, United States
CATEGORIES:Monthly Training
ATTACH;FMTTYPE=image/jpeg:https://sites.rutgers.edu/oopn/wp-content/uploads/sites/1519/2025/12/Narcan-Image.jpeg
ORGANIZER;CN="Rutgers RWJMS Division of Addiction Psychiatry":MAILTO:PreventOverdose@rwjms.rutgers.edu
END:VEVENT
END:VCALENDAR