BEGIN:VCALENDAR
VERSION:2.0
PRODID:-//Precision Medicine - ECPv6.7.0//NONSGML v1.0//EN
CALSCALE:GREGORIAN
METHOD:PUBLISH
X-WR-CALNAME:Precision Medicine
X-ORIGINAL-URL:https://sites.rutgers.edu/precision-medicine
X-WR-CALDESC:Events for Precision Medicine
REFRESH-INTERVAL;VALUE=DURATION:PT1H
X-Robots-Tag:noindex
X-PUBLISHED-TTL:PT1H
BEGIN:VTIMEZONE
TZID:UTC
BEGIN:STANDARD
TZOFFSETFROM:+0000
TZOFFSETTO:+0000
TZNAME:UTC
DTSTART:20220101T000000
END:STANDARD
END:VTIMEZONE
BEGIN:VEVENT
DTSTART;TZID=UTC:20220908T080000
DTEND;TZID=UTC:20220909T170000
DTSTAMP:20260422T033044
CREATED:20220707T181835Z
LAST-MODIFIED:20220707T181835Z
UID:1059-1662624000-1662742800@sites.rutgers.edu
SUMMARY:Dr. Ahmed speaking in the Precision Medicine Forum\, New Jersey\, USA. 8-9 September\, 2022.
DESCRIPTION:Dr. Zeeshan Ahmed is participating in the Precision Medicine Forum\, New Jersey\, USA\, 8-9 September 2022. \nDr. Ahmed is one of the panelist in the session #9\, “Being Precise about Precision Medicine”\, which includes but not limited to: \n\nA definition of precision medicine to ensure we are meeting reimbursement measures.\nBuilding consensus among the stakeholders for robust procedures and measures of value aspects.\nDefining the core factors that should be considered in a value assessment framework for precision medicine.\nRecognizing the potential range of value-generation such as ruling-in and ruling-out decisions.
URL:https://sites.rutgers.edu/precision-medicine/event/dr-ahmed-speaking-in-the-precision-medicine-forum-new-jersey-usa-8-9-september-2022/
END:VEVENT
END:VCALENDAR