BEGIN:VCALENDAR
VERSION:2.0
PRODID:-//Precision Medicine - ECPv6.7.0//NONSGML v1.0//EN
CALSCALE:GREGORIAN
METHOD:PUBLISH
X-WR-CALNAME:Precision Medicine
X-ORIGINAL-URL:https://sites.rutgers.edu/precision-medicine
X-WR-CALDESC:Events for Precision Medicine
REFRESH-INTERVAL;VALUE=DURATION:PT1H
X-Robots-Tag:noindex
X-PUBLISHED-TTL:PT1H
BEGIN:VTIMEZONE
TZID:UTC
BEGIN:STANDARD
TZOFFSETFROM:+0000
TZOFFSETTO:+0000
TZNAME:UTC
DTSTART:20220101T000000
END:STANDARD
END:VTIMEZONE
BEGIN:VEVENT
DTSTART;TZID=UTC:20220927T080000
DTEND;TZID=UTC:20220929T170000
DTSTAMP:20260422T065257
CREATED:20220707T181730Z
LAST-MODIFIED:20220707T181730Z
UID:1057-1664265600-1664470800@sites.rutgers.edu
SUMMARY:Dr. Ahmed speaking in the Tri-Omics Summit USA\, 27-29 September\, 2022.
DESCRIPTION:Dr. Zeeshan Ahmed is participating in the Tri-Omics Summit USA\, 27-29 September\, 2022. \nDr. Ahmed will be presenting\, “FAIR gene-disease data integration\, annotation\, and expression analysis with dynamic visualization for predictive and precision medicine“. Multi-Omics Focus Day. Time: 27th September. 16:45 – 17:15.
URL:https://sites.rutgers.edu/precision-medicine/event/dr-ahmed-speaking-in-the-tri-omics-summit-usa-27-29-september-2022/
END:VEVENT
END:VCALENDAR