BEGIN:VCALENDAR
VERSION:2.0
PRODID:-//Precision Medicine - ECPv6.7.0//NONSGML v1.0//EN
CALSCALE:GREGORIAN
METHOD:PUBLISH
X-WR-CALNAME:Precision Medicine
X-ORIGINAL-URL:https://sites.rutgers.edu/precision-medicine
X-WR-CALDESC:Events for Precision Medicine
REFRESH-INTERVAL;VALUE=DURATION:PT1H
X-Robots-Tag:noindex
X-PUBLISHED-TTL:PT1H
BEGIN:VTIMEZONE
TZID:UTC
BEGIN:STANDARD
TZOFFSETFROM:+0000
TZOFFSETTO:+0000
TZNAME:UTC
DTSTART:20220101T000000
END:STANDARD
END:VTIMEZONE
BEGIN:VEVENT
DTSTART;TZID=UTC:20221107T090000
DTEND;TZID=UTC:20221107T130000
DTSTAMP:20260422T172717
CREATED:20220901T015108Z
LAST-MODIFIED:20220901T015108Z
UID:1118-1667811600-1667826000@sites.rutgers.edu
SUMMARY:Ahmed lab is organizing GVViZ and PAS workshop at the ISCB-LA SoIBio BioNet MX\, 2022
DESCRIPTION:Ahmed lab is organizing GVViZ and PAS workshop at the ISCB-Latin America SoIBio BioNetMX Conference on Bioinformatics 2022\, organized by the Bioinformatics Network Mexico (BioNetMX) together with the Iberoamerican Society of Bioinformatics (SoIBio) and the International Society for Computational Biology (ISCB). \nVIRTUAL WORKSHOPS AND TUTORIALS\, MONDAY\, NOVEMBER 7\, 9:00 – 13:00.\nGVViZ & PAS: Integrated bioinformatics and mobile applications for gene-disease data annotation\, expression analysis\, and visualization for translational research.
URL:https://sites.rutgers.edu/precision-medicine/event/ahmed-lab-is-organizing-gvviz-and-pas-workshop-at-the-iscb-la-soibio-bionet-mx-2022/
END:VEVENT
BEGIN:VEVENT
DTSTART;TZID=UTC:20221108T080000
DTEND;TZID=UTC:20221108T120000
DTSTAMP:20260422T172717
CREATED:20220707T181542Z
LAST-MODIFIED:20220901T014910Z
UID:1055-1667894400-1667908800@sites.rutgers.edu
SUMMARY:Ahmed lab is organizing GVViZ and PAS workshop at the 14th annual RECOMB/ISCB\, USA. 7-11 November\, 2022
DESCRIPTION:Ahmed lab is organizing GVViZ and PAS workshop at the 14th annual RECOMB/ISCB Conference on Regulatory & Systems Genomics with DREAM Challenges. 7-11 November\, 2022. 8:00 am – 12:00 pm PST.
URL:https://sites.rutgers.edu/precision-medicine/event/ahmed-lab-is-organizing-gvviz-and-pas-workshop-at-the-14th-annual-recomb-iscb-usa-7-11-november-2022/
END:VEVENT
END:VCALENDAR