BEGIN:VCALENDAR
VERSION:2.0
PRODID:-//Center for Autism Research, Education, &amp; Services - ECPv6.7.0//NONSGML v1.0//EN
CALSCALE:GREGORIAN
METHOD:PUBLISH
X-WR-CALNAME:Center for Autism Research, Education, &amp; Services
X-ORIGINAL-URL:https://sites.rutgers.edu/rucares
X-WR-CALDESC:Events for Center for Autism Research, Education, &amp; Services
REFRESH-INTERVAL;VALUE=DURATION:PT1H
X-Robots-Tag:noindex
X-PUBLISHED-TTL:PT1H
BEGIN:VTIMEZONE
TZID:UTC
BEGIN:STANDARD
TZOFFSETFROM:+0000
TZOFFSETTO:+0000
TZNAME:UTC
DTSTART:20240101T000000
END:STANDARD
END:VTIMEZONE
BEGIN:VEVENT
DTSTART;TZID=UTC:20240906T080000
DTEND;TZID=UTC:20240906T160000
DTSTAMP:20260422T162039
CREATED:20240802T183912Z
LAST-MODIFIED:20240802T183912Z
UID:1462-1725609600-1725638400@sites.rutgers.edu
SUMMARY:1st Annual NJACE & RUCARES Conference
DESCRIPTION:The New Jersey Autism Center of Excellence and RUCARES are hosting their first annual conference! Please use the information below to learn more baout this event and register to participate.\n\nConference location: Douglass Student Center\, Rutgers University\nConference details: 8am-4pm on September 6th\, 2024 \nRegistration – Registration will be free for the first 50 students. Use this link to be one of the first 50 students to sign up and get free registration! https://rutgers.ca1.qualtrics.com/jfe/form/SV_aeYOgw5Y1tosID4 \nRegister Here: https://quikpayasp.com/rutgers/commerce_manager/payer.do?orderType=BHI_RUCARESAnnualConference__;!!KU82p_qNqnQ!8–2tHu9z8DKU2oB13O95N4Ba2y1SgGUDQsxcCxDl5MxUbLN1rVH2QQgSgsf_aF3kVgQZDXLKrwEcVLw1bM30eYK1swO5rkvYQ$ \nCost: For the remainder of attendees\, student registration will be $20 and general registration will be $30. \n  \nStudents and researchers in the field of autism are invited to participate in our poster session. In order to apply to present a poster\, please complete and send the Poster Session Application form to NJACE@childrens-specialized.org by August 23rd\, 2024.
URL:https://sites.rutgers.edu/rucares/event/1st-annual-njace-rucares-conference/
LOCATION:Douglass Student Center\, 100 George St\, New Brunswick\, NJ\, 08901\, United States
END:VEVENT
END:VCALENDAR