BEGIN:VCALENDAR
VERSION:2.0
PRODID:-//Shi Lab - ECPv6.7.0//NONSGML v1.0//EN
CALSCALE:GREGORIAN
METHOD:PUBLISH
X-ORIGINAL-URL:https://sites.rutgers.edu/shi-lab
X-WR-CALDESC:Events for Shi Lab
REFRESH-INTERVAL;VALUE=DURATION:PT1H
X-Robots-Tag:noindex
X-PUBLISHED-TTL:PT1H
BEGIN:VTIMEZONE
TZID:UTC
BEGIN:STANDARD
TZOFFSETFROM:+0000
TZOFFSETTO:+0000
TZNAME:UTC
DTSTART:20240101T000000
END:STANDARD
END:VTIMEZONE
BEGIN:VEVENT
DTSTART;TZID=UTC:20240123T110000
DTEND;TZID=UTC:20240123T123000
DTSTAMP:20260422T184952
CREATED:20230728T161447Z
LAST-MODIFIED:20230921T170426Z
UID:1536-1706007600-1706013000@sites.rutgers.edu
SUMMARY:CCB Colloquium – Professor Jim Shorter\, University of Pennsylvania
DESCRIPTION:
URL:https://sites.rutgers.edu/shi-lab/event/ccb-colloquium-professor-jim-shorter-university-of-pennsylvania/
END:VEVENT
END:VCALENDAR