BEGIN:VCALENDAR
VERSION:2.0
PRODID:-//Shi Lab - ECPv6.7.0//NONSGML v1.0//EN
CALSCALE:GREGORIAN
METHOD:PUBLISH
X-WR-CALNAME:Shi Lab
X-ORIGINAL-URL:https://sites.rutgers.edu/shi-lab
X-WR-CALDESC:Events for Shi Lab
REFRESH-INTERVAL;VALUE=DURATION:PT1H
X-Robots-Tag:noindex
X-PUBLISHED-TTL:PT1H
BEGIN:VTIMEZONE
TZID:UTC
BEGIN:STANDARD
TZOFFSETFROM:+0000
TZOFFSETTO:+0000
TZNAME:UTC
DTSTART:20230101T000000
END:STANDARD
END:VTIMEZONE
BEGIN:VEVENT
DTSTART;TZID=UTC:20231202T080000
DTEND;TZID=UTC:20231206T170000
DTSTAMP:20260421T030815
CREATED:20230728T161808Z
LAST-MODIFIED:20230728T161825Z
UID:1542-1701504000-1701882000@sites.rutgers.edu
SUMMARY:The American Society for Cell Biology meeting in Boston
DESCRIPTION:
URL:https://sites.rutgers.edu/shi-lab/event/the-american-society-for-cell-biology-meeting-in-boston-ma/
END:VEVENT
END:VCALENDAR