BEGIN:VCALENDAR
VERSION:2.0
PRODID:-//Community Support Services - ECPv6.7.0//NONSGML v1.0//EN
CALSCALE:GREGORIAN
METHOD:PUBLISH
X-WR-CALNAME:Community Support Services
X-ORIGINAL-URL:https://sites.rutgers.edu/shp-community-support-services
X-WR-CALDESC:Events for Community Support Services
REFRESH-INTERVAL;VALUE=DURATION:PT1H
X-Robots-Tag:noindex
X-PUBLISHED-TTL:PT1H
BEGIN:VTIMEZONE
TZID:UTC
BEGIN:STANDARD
TZOFFSETFROM:+0000
TZOFFSETTO:+0000
TZNAME:UTC
DTSTART:20220101T000000
END:STANDARD
END:VTIMEZONE
BEGIN:VEVENT
DTSTART;TZID=UTC:20230324T093000
DTEND;TZID=UTC:20230324T110000
DTSTAMP:20260422T010508
CREATED:20230226T200709Z
LAST-MODIFIED:20230226T200709Z
UID:2179-1679650200-1679655600@sites.rutgers.edu
SUMMARY:Monthly CSS Webinar-PART 2 of a 3-Part Series: Evidence-Based Interventions to Support Individuals with Co-occurring Disorders in CSS
DESCRIPTION:Please join Crystal Socha on March 24th at 9:30 am for the March 2023 CSS Webinar\, Evidence-Based Interventions to Support Individuals with Co-occurring Disorders in CSS. This is the second webinar of a 3-part series designed to educate CSS staff on co-occurring disorders and how to better support CSS consumers who have a co-occurring disorder. \nRegister 
URL:https://sites.rutgers.edu/shp-community-support-services/event/monthly-css-webinar-part-2-of-a-3-part-series-evidence-based-interventions-to-support-individuals-with-co-occurring-disorders-in-css/
CATEGORIES:CSS Webinars
END:VEVENT
BEGIN:VEVENT
DTSTART;TZID=UTC:20230317T130000
DTEND;TZID=UTC:20230317T140000
DTSTAMP:20260422T010508
CREATED:20230226T200520Z
LAST-MODIFIED:20230226T200520Z
UID:2178-1679058000-1679061600@sites.rutgers.edu
SUMMARY:Supervisors Learning Community
DESCRIPTION:A monthly forum for CSS supervisors that is dedicated to collaborative inquiry & action research to enhance outcomes for staff and consumers of CSS. \nRegister | Learn more
URL:https://sites.rutgers.edu/shp-community-support-services/event/supervisors-learning-community-6/
CATEGORIES:Supervisors Learning Community
END:VEVENT
BEGIN:VEVENT
DTSTART;TZID=UTC:20230224T093000
DTEND;TZID=UTC:20230224T110000
DTSTAMP:20260422T010508
CREATED:20230207T210934Z
LAST-MODIFIED:20230226T200750Z
UID:2148-1677231000-1677236400@sites.rutgers.edu
SUMMARY:Monthly CSS Webinar-PART 1 of a 3-Part SeriesAddressing the Complexities of Co-Occurring Disorders in CSS
DESCRIPTION:The CSS Webinar Addressing the Complexities of Co-Occurring Disorders in CSS will be held on Friday\, February 24th from 9:30 am to 11 am.  It’s open to all CSS staff and will be facilitated by Crystal Socha. \nRegister 
URL:https://sites.rutgers.edu/shp-community-support-services/event/monthly-css-webinar-addressing-the-complexities-of-co-occurring-disorders-in-css/
CATEGORIES:CSS Webinars
END:VEVENT
BEGIN:VEVENT
DTSTART;TZID=UTC:20230217T130000
DTEND;TZID=UTC:20230217T140000
DTSTAMP:20260422T010508
CREATED:20230207T211118Z
LAST-MODIFIED:20230207T211118Z
UID:2150-1676638800-1676642400@sites.rutgers.edu
SUMMARY:Supervisors Learning Community
DESCRIPTION:A monthly forum for CSS supervisors that is dedicated to collaborative inquiry & action research to enhance outcomes for staff and consumers of CSS. \nRegister | Learn more
URL:https://sites.rutgers.edu/shp-community-support-services/event/supervisors-learning-community-3/
CATEGORIES:Supervisors Learning Community
END:VEVENT
BEGIN:VEVENT
DTSTART;TZID=UTC:20221202T093000
DTEND;TZID=UTC:20221202T110000
DTSTAMP:20260422T010508
CREATED:20221031T150918Z
LAST-MODIFIED:20221031T150918Z
UID:2099-1669973400-1669978800@sites.rutgers.edu
SUMMARY:Monthly CSS Webinar-Navigating the Storms of Life: Supporting People in Times of Crisis
DESCRIPTION:The CSS Webinar Navigating the Storms of Life: Supporting People in Times of Crisis will be held on Friday\, December 2nd from 9:30 am to 11 am.  It’s open to all CSS staff and will be facilitated by Earle Leitch. \n  \nRegister 
URL:https://sites.rutgers.edu/shp-community-support-services/event/monthly-css-webinar-navigating-the-storms-of-life-supporting-people-in-times-of-crisis/
CATEGORIES:CSS Webinars
END:VEVENT
BEGIN:VEVENT
DTSTART;TZID=UTC:20221118T130000
DTEND;TZID=UTC:20221118T140000
DTSTAMP:20260422T010508
CREATED:20221031T151503Z
LAST-MODIFIED:20221031T151503Z
UID:2102-1668776400-1668780000@sites.rutgers.edu
SUMMARY:Supervisors Learning Community
DESCRIPTION:A monthly forum for CSS supervisors that is dedicated to collaborative inquiry & action research to enhance outcomes for staff and consumers of CSS. \nRegister | Learn more
URL:https://sites.rutgers.edu/shp-community-support-services/event/supervisors-learning-community-2/
CATEGORIES:Supervisors Learning Community
END:VEVENT
BEGIN:VEVENT
DTSTART;TZID=UTC:20221028T093000
DTEND;TZID=UTC:20221028T110000
DTSTAMP:20260422T010508
CREATED:20220923T181945Z
LAST-MODIFIED:20220923T190127Z
UID:2043-1666949400-1666954800@sites.rutgers.edu
SUMMARY:Monthly CSS Webinar-Taking Action: Incorporating Advocacy into CSS
DESCRIPTION:The CSS Webinar Taking Action: Incorporating Advocacy into CSS will be held on Friday\, October 28th from 9:30 am to 11 am. It’s open to all CSS staff and will be facilitated by Emilie Banz. \n  \nRegister 
URL:https://sites.rutgers.edu/shp-community-support-services/event/css-monthly-webinar-taking-action-incorporating-advocacy-into-css/
CATEGORIES:CSS Webinars
END:VEVENT
BEGIN:VEVENT
DTSTART;TZID=UTC:20221021T130000
DTEND;TZID=UTC:20221021T140000
DTSTAMP:20260422T010508
CREATED:20220520T174621Z
LAST-MODIFIED:20221031T184053Z
UID:1870-1666357200-1666360800@sites.rutgers.edu
SUMMARY:Supervisors Learning Community
DESCRIPTION:A monthly forum for CSS supervisors that is dedicated to collaborative inquiry & action research to enhance outcomes for staff and consumers of CSS. \nRegister | Learn more
URL:https://sites.rutgers.edu/shp-community-support-services/event/supervisors-learning-community-5/
CATEGORIES:Supervisors Learning Community
END:VEVENT
BEGIN:VEVENT
DTSTART;TZID=UTC:20220930T130000
DTEND;TZID=UTC:20220930T140000
DTSTAMP:20260422T010508
CREATED:20220520T174527Z
LAST-MODIFIED:20220913T212433Z
UID:1868-1664542800-1664546400@sites.rutgers.edu
SUMMARY:Supervisors Learning Community
DESCRIPTION:A monthly forum for CSS supervisors that is dedicated to collaborative inquiry & action research to enhance outcomes for staff and consumers of CSS. \nRegister | Learn more
URL:https://sites.rutgers.edu/shp-community-support-services/event/supervisors-learning-community-4/
CATEGORIES:Supervisors Learning Community
END:VEVENT
BEGIN:VEVENT
DTSTART;TZID=UTC:20220923T093000
DTEND;TZID=UTC:20220923T110000
DTSTAMP:20260422T010508
CREATED:20220722T184237Z
LAST-MODIFIED:20220923T190107Z
UID:1997-1663925400-1663930800@sites.rutgers.edu
SUMMARY:Monthly CSS Webinar-Intimacy & Mental Health Conditions: Promoting Wellness and Quality of Life in CSS
DESCRIPTION:The CSS Webinar Intimacy & Mental Health Conditions: Promoting Wellness and Quality of Life in CSS will be held on Friday\, September 23rd from 9:30 am to 11 am.  It’s open to all CSS staff and will be facilitated by Earle Leitch. \nRegister 
URL:https://sites.rutgers.edu/shp-community-support-services/event/september-webinar-intimacy-mental-health-conditions-promoting-wellness-and-quality-of-life-in-css/
CATEGORIES:CSS Webinars
END:VEVENT
BEGIN:VEVENT
DTSTART;TZID=UTC:20220802T093000
DTEND;TZID=UTC:20220802T120000
DTSTAMP:20260422T010508
CREATED:20220713T125923Z
LAST-MODIFIED:20220713T125924Z
UID:1967-1659432600-1659441600@sites.rutgers.edu
SUMMARY:IRP Development Workshop
DESCRIPTION:Join the CSS @ Rutgers Initiative team for our next IRP Development Workshop live through Zoom on Tuesday 8/2 from 9:30- 12:00 pm. The workshop is for CSS staff who complete IRPs (licensed clinicians\, RNs) to present an IRP ask questions\, and receive feedback and suggestions from those in their group. Participants must bring a de-identified IRP. \nRegister | See more training
URL:https://sites.rutgers.edu/shp-community-support-services/event/irp-development-workshop-3/
CATEGORIES:Training
END:VEVENT
BEGIN:VEVENT
DTSTART;VALUE=DATE:20220802
DTEND;VALUE=DATE:20220913
DTSTAMP:20260422T010508
CREATED:20220803T135437Z
LAST-MODIFIED:20220803T135546Z
UID:2028-1659398400-1663027199@sites.rutgers.edu
SUMMARY:9-week CSS Training Series Registration NOW OPEN!
DESCRIPTION:This sequential training offers a blend of didactic and self-directed online modules. The training first provides participants with an overview of CSS and psychiatric rehabilitation principles and methods.  Participants will then learn more about the evidence-based and best practices within CSS. The training will also highlight documentation requirements for CSS. Work-based learning approaches will be used to help participants apply concepts to fieldwork. \nTarget audience: All CSS staff who have never attended the 9-week CSS Training Series. \nTraining Dates: Tuesdays 10:00 am-1:00 pm from 9/20/2022-11/15/2022; Wednesdays 12:30-3:30 pm from 9/21/2022-11/16/2022; Thursdays 10:30 am-1:30 pm from 9/22/2022-11/17/2022 \nRegistration: Registration is now open. Registration for the training series will close on Monday\, September 12th\, 2022. \nRegister
URL:https://sites.rutgers.edu/shp-community-support-services/event/9-week-css-training-series-registration-now-open/
CATEGORIES:CSS Training Series,Training
END:VEVENT
BEGIN:VEVENT
DTSTART;TZID=UTC:20220722T093000
DTEND;TZID=UTC:20220722T110000
DTSTAMP:20260422T010508
CREATED:20220621T125647Z
LAST-MODIFIED:20220923T181701Z
UID:1915-1658482200-1658487600@sites.rutgers.edu
SUMMARY:Providing CSS Intentional Services: Another Case Example
DESCRIPTION:The CSS Webinar Providing CSS Intentional Services: Another Case Example will be on Friday 7/22 from 9:30 am – 11 am.  It’s open to all CSS staff and will be facilitated by Emilie Banz. \n  \nSee webinars
URL:https://sites.rutgers.edu/shp-community-support-services/event/providing-css-intentional-services-another-case-example-7-15/
CATEGORIES:CSS Webinars
END:VEVENT
BEGIN:VEVENT
DTSTART;TZID=UTC:20220624T130000
DTEND;TZID=UTC:20220624T140000
DTSTAMP:20260422T010508
CREATED:20220520T174023Z
LAST-MODIFIED:20220608T155914Z
UID:1861-1656075600-1656079200@sites.rutgers.edu
SUMMARY:Supervisors Learning Community
DESCRIPTION:A monthly forum for CSS supervisors that is dedicated to collaborative inquiry & action research to enhance outcomes for staff and consumers of CSS. \nRegister | Learn more
URL:https://sites.rutgers.edu/shp-community-support-services/event/supervisors-learning-community/
CATEGORIES:Supervisors Learning Community
END:VEVENT
BEGIN:VEVENT
DTSTART;TZID=UTC:20220624T093000
DTEND;TZID=UTC:20220624T110000
DTSTAMP:20260422T010508
CREATED:20220506T152440Z
LAST-MODIFIED:20220923T190057Z
UID:1827-1656063000-1656068400@sites.rutgers.edu
SUMMARY:Monthly CSS Webinar-The Evolution of Chronic Pain & Pain Management
DESCRIPTION:Chronic pain and its management are contentious and evolving\, including changing opioid prescription practices. People with serious mental health conditions tend to experience more chronic pain and more pain invalidation from providers. This webinar will provide an overview of evolving understanding of pain\, pain management\, and tools to support consumers. It’s open to all CSS staff\,  \nThis webinar will be facilitated by Shelley Buchbinder. \nRegister 
URL:https://sites.rutgers.edu/shp-community-support-services/event/css-webinar-the-evolution-of-chronic-pain-pain-management/
CATEGORIES:CSS Webinars
END:VEVENT
BEGIN:VEVENT
DTSTART;TZID=UTC:20220614T093000
DTEND;TZID=UTC:20220614T120000
DTSTAMP:20260422T010508
CREATED:20220517T145130Z
LAST-MODIFIED:20220517T145137Z
UID:1856-1655199000-1655208000@sites.rutgers.edu
SUMMARY:IRP Development Workshop
DESCRIPTION:The IRP Development Workshop is for CSS staff who complete IRPs (licensed clinicians\, RNs) to present an IRP ask questions\, and receive feedback and suggestions from those in their group. Participants must bring a de-identified IRP in development or have previously been submitted and received feedback but are not currently on hold to discuss and review. We suggest bringing an in development IRP if possible. The workshop will be entirely practice-based. This workshop will be live through Zoom on Tuesday 6/14 from 9:30 am – 12:00 pm. \nRegister  | Learn more
URL:https://sites.rutgers.edu/shp-community-support-services/event/irp-development-workshop-2/
END:VEVENT
BEGIN:VEVENT
DTSTART;TZID=UTC:20220520T130000
DTEND;TZID=UTC:20220520T143000
DTSTAMP:20260422T010508
CREATED:20211012T134620Z
LAST-MODIFIED:20211012T134620Z
UID:1495-1653051600-1653057000@sites.rutgers.edu
SUMMARY:CSS Supervisors Learning Community
DESCRIPTION:A monthly forum for CSS supervisors that is dedicated to collaborative inquiry & action research to enhance outcomes for staff and consumers of CSS.
URL:https://sites.rutgers.edu/shp-community-support-services/event/css-supervisors-learning-community-8/
CATEGORIES:Supervisors Learning Community
END:VEVENT
BEGIN:VEVENT
DTSTART;TZID=UTC:20220513T093000
DTEND;TZID=UTC:20220513T110000
DTSTAMP:20260422T010508
CREATED:20220422T135749Z
LAST-MODIFIED:20220923T190043Z
UID:1816-1652434200-1652439600@sites.rutgers.edu
SUMMARY:Monthly CSS Webinar RESCHEDULED-Providing Intentional Services in CSS: Exploring Another Case Example
DESCRIPTION:Similar to other services\, the delivery of CSS has been significantly impacted by the COVID-19 pandemic. Adaptations to the methods\, frequency\, and duration of services became necessary. Given these adaptations and other service delivery challenges\, it is incumbent upon service providers to be even more attentive to the basics of providing intentional services that are purposeful\, deliberate\, and planned. This webinar outlines the path to intentional services provision using a case example.  This webinar will be facilitated by Emilie Banz. \n 
URL:https://sites.rutgers.edu/shp-community-support-services/event/providing-intentional-services-in-css-exploring-another-case-example-5-13/
CATEGORIES:CSS Webinars
END:VEVENT
BEGIN:VEVENT
DTSTART;TZID=UTC:20220503T093000
DTEND;TZID=UTC:20220503T120000
DTSTAMP:20260422T010508
CREATED:20220406T201222Z
LAST-MODIFIED:20220406T201222Z
UID:1797-1651570200-1651579200@sites.rutgers.edu
SUMMARY:IRP Development Workshop
DESCRIPTION:The IRP Development Workshop is for CSS staff who complete IRPs (licensed clinicians\, RNs) to present an IRP ask questions\, and receive feedback and suggestions from those in their group. Participants must bring a de-identified IRP in development or have previously been submitted and received feedback but are not currently on hold to discuss and review. We suggest bringing an in development IRP if possible. The workshop will be entirely practice-based. The workshop will be live through Zoom on Tuesday 5/3 from 9:30- 12:00 pm. \nRegister  | Learn more
URL:https://sites.rutgers.edu/shp-community-support-services/event/irp-development-workshop/
CATEGORIES:CSS Training Series
END:VEVENT
BEGIN:VEVENT
DTSTART;TZID=UTC:20220426T093000
DTEND;TZID=UTC:20220426T123000
DTSTAMP:20260422T010508
CREATED:20220308T142340Z
LAST-MODIFIED:20220308T142340Z
UID:1738-1650965400-1650976200@sites.rutgers.edu
SUMMARY:CSS Documentation Training (Zoom)
DESCRIPTION:This training provides a brief overview of CSS and psychiatric rehabilitation. However\, the primary emphasis of the training will be on CSS documentation. More specifically\, participants will learn about the Rehabilitation Needs Assessment (RNA)\, Individualized Rehabilitation Plan (IRP)\, and progress notes. Case-based learning approaches will be used to help clinicians practice documentation strategies covered in the training. \nTarget audience: Clinicians & Registered Nurses working in a CSS program that are responsible for completing the RNA and/or IRP (i.e.\, LSW\, LAC\, LCSW\, LPC\, RN). \nRegistration: The training will be on Tuesdays April 19 and 26 from 9:30 am – 12:30 pm on Zoom. There will be required self-paced content to be completed before registrants can take the training on Zoom. \nRegister
URL:https://sites.rutgers.edu/shp-community-support-services/event/css-documentation-training-zoom-2/
CATEGORIES:Training
END:VEVENT
BEGIN:VEVENT
DTSTART;TZID=UTC:20220422T093000
DTEND;TZID=UTC:20220422T110000
DTSTAMP:20260422T010508
CREATED:20220310T184931Z
LAST-MODIFIED:20220923T190019Z
UID:1754-1650619800-1650625200@sites.rutgers.edu
SUMMARY:Monthly CSS Webinar-Providing Intentional Services in CSS: A Case Example
DESCRIPTION:Similar to other services\, the delivery of CSS has been significantly impacted by the COVID-19 pandemic. Adaptations to the methods\, frequency\, and duration of services became necessary. Given these adaptations and other service delivery challenges\, it is concomitant upon service providers to be even more attentive to the basics of providing intentional services. Intentional services are purposeful\, deliberate\, and planned and have a specific intended outcome. This webinar is intended to outline the path to intentional services provision using a case example. \nRegister 
URL:https://sites.rutgers.edu/shp-community-support-services/event/providing-intentional-services-in-css-a-case-example/
CATEGORIES:CSS Webinars
END:VEVENT
BEGIN:VEVENT
DTSTART;TZID=UTC:20220419T093000
DTEND;TZID=UTC:20220419T123000
DTSTAMP:20260422T010508
CREATED:20220308T142231Z
LAST-MODIFIED:20220308T142231Z
UID:1736-1650360600-1650371400@sites.rutgers.edu
SUMMARY:CSS Documentation Training (Zoom)
DESCRIPTION:This training provides a brief overview of CSS and psychiatric rehabilitation. However\, the primary emphasis of the training will be on CSS documentation. More specifically\, participants will learn about the Rehabilitation Needs Assessment (RNA)\, Individualized Rehabilitation Plan (IRP)\, and progress notes. Case-based learning approaches will be used to help clinicians practice documentation strategies covered in the training. \nTarget audience: Clinicians & Registered Nurses working in a CSS program that are responsible for completing the RNA and/or IRP (i.e.\, LSW\, LAC\, LCSW\, LPC\, RN). \nRegistration: The training will be on Tuesdays April 19 and 26 from 9:30 am – 12:30 pm on Zoom. There will be required self-paced content to be completed before registrants can take the training on Zoom. \nRegister
URL:https://sites.rutgers.edu/shp-community-support-services/event/css-documentation-training-zoom/
CATEGORIES:Training
END:VEVENT
BEGIN:VEVENT
DTSTART;TZID=UTC:20220415T130000
DTEND;TZID=UTC:20220415T143000
DTSTAMP:20260422T010508
CREATED:20211012T134516Z
LAST-MODIFIED:20211012T134516Z
UID:1493-1650027600-1650033000@sites.rutgers.edu
SUMMARY:CSS Supervisors Learning Community
DESCRIPTION:A monthly forum for CSS supervisors that is dedicated to collaborative inquiry & action research to enhance outcomes for staff and consumers of CSS.
URL:https://sites.rutgers.edu/shp-community-support-services/event/css-supervisors-learning-community-7/
CATEGORIES:Supervisors Learning Community
END:VEVENT
BEGIN:VEVENT
DTSTART;TZID=UTC:20220331T103000
DTEND;TZID=UTC:20220331T133000
DTSTAMP:20260422T010508
CREATED:20211209T191640Z
LAST-MODIFIED:20211209T191640Z
UID:1615-1648722600-1648733400@sites.rutgers.edu
SUMMARY:CSS Training Series: Session 9 (Thursday)
DESCRIPTION:Learn more about and register for CSS training here.
URL:https://sites.rutgers.edu/shp-community-support-services/event/css-training-series-session-9-thursday-2/
CATEGORIES:CSS Training Series
END:VEVENT
BEGIN:VEVENT
DTSTART;TZID=UTC:20220330T123000
DTEND;TZID=UTC:20220330T153000
DTSTAMP:20260422T010508
CREATED:20211209T191542Z
LAST-MODIFIED:20211209T191542Z
UID:1613-1648643400-1648654200@sites.rutgers.edu
SUMMARY:CSS Training Series: Session 9 (Wednesday)
DESCRIPTION:Learn more about and register for CSS training here.
URL:https://sites.rutgers.edu/shp-community-support-services/event/css-training-series-session-9-wednesday-2/
CATEGORIES:CSS Training Series
END:VEVENT
BEGIN:VEVENT
DTSTART;TZID=UTC:20220329T093000
DTEND;TZID=UTC:20220329T123000
DTSTAMP:20260422T010508
CREATED:20211209T191502Z
LAST-MODIFIED:20211209T191502Z
UID:1611-1648546200-1648557000@sites.rutgers.edu
SUMMARY:CSS Training Series: Session 9 (Tuesday)
DESCRIPTION:Learn more about and register for CSS training here.
URL:https://sites.rutgers.edu/shp-community-support-services/event/css-training-series-session-9-tuesday-2/
CATEGORIES:CSS Training Series
END:VEVENT
BEGIN:VEVENT
DTSTART;TZID=UTC:20220324T103000
DTEND;TZID=UTC:20220324T133000
DTSTAMP:20260422T010508
CREATED:20211209T191349Z
LAST-MODIFIED:20211209T191349Z
UID:1609-1648117800-1648128600@sites.rutgers.edu
SUMMARY:CSS Training Series: Session 8 (Thursday)
DESCRIPTION:Learn more about and register for CSS training here.
URL:https://sites.rutgers.edu/shp-community-support-services/event/css-training-series-session-8-thursday-2/
CATEGORIES:CSS Training Series
END:VEVENT
BEGIN:VEVENT
DTSTART;TZID=UTC:20220323T123000
DTEND;TZID=UTC:20220323T153000
DTSTAMP:20260422T010508
CREATED:20211209T191308Z
LAST-MODIFIED:20211209T191308Z
UID:1607-1648038600-1648049400@sites.rutgers.edu
SUMMARY:CSS Training Series: Session 8 (Wednesday)
DESCRIPTION:Learn more about and register for CSS training here.
URL:https://sites.rutgers.edu/shp-community-support-services/event/css-training-series-session-8-wednesday-2/
CATEGORIES:CSS Training Series
END:VEVENT
BEGIN:VEVENT
DTSTART;TZID=UTC:20220323T093000
DTEND;TZID=UTC:20220323T120000
DTSTAMP:20260422T010508
CREATED:20220223T152529Z
LAST-MODIFIED:20220223T152541Z
UID:1718-1648027800-1648036800@sites.rutgers.edu
SUMMARY:CSS IRP Development Workshop
DESCRIPTION:The IRP Development Workshop is for CSS staff who complete IRPs (licensed clinicians\, RNs) to present an IRP ask questions\, and receive feedback and suggestions from those in their group. Participants must bring a de-identified IRP in development or have previously been submitted and received feedback but are not currently on hold to discuss and review. The workshop will be entirely practice-based. The workshop will be live through Zoom on Wednesday\, March 23\, from 9:30- 12:00 pm. \nRegister 
URL:https://sites.rutgers.edu/shp-community-support-services/event/css-irp-development-workshop/
CATEGORIES:Training
END:VEVENT
BEGIN:VEVENT
DTSTART;TZID=UTC:20220322T093000
DTEND;TZID=UTC:20220322T123000
DTSTAMP:20260422T010508
CREATED:20211209T190930Z
LAST-MODIFIED:20211209T190930Z
UID:1605-1647941400-1647952200@sites.rutgers.edu
SUMMARY:CSS Training Series: Session 8 (Tuesday)
DESCRIPTION:Learn more about and register for CSS training here.
URL:https://sites.rutgers.edu/shp-community-support-services/event/css-training-series-session-8-tuesday-2/
CATEGORIES:CSS Training Series
END:VEVENT
END:VCALENDAR