BEGIN:VCALENDAR
VERSION:2.0
PRODID:-//Toastmasters Club  - ECPv6.7.0//NONSGML v1.0//EN
CALSCALE:GREGORIAN
METHOD:PUBLISH
X-WR-CALNAME:Toastmasters Club 
X-ORIGINAL-URL:https://sites.rutgers.edu/toastmasters
X-WR-CALDESC:Events for Toastmasters Club 
REFRESH-INTERVAL;VALUE=DURATION:PT1H
X-Robots-Tag:noindex
X-PUBLISHED-TTL:PT1H
BEGIN:VTIMEZONE
TZID:UTC
BEGIN:STANDARD
TZOFFSETFROM:+0000
TZOFFSETTO:+0000
TZNAME:UTC
DTSTART:20230101T000000
END:STANDARD
END:VTIMEZONE
BEGIN:VEVENT
DTSTART;TZID=UTC:20231116T120000
DTEND;TZID=UTC:20231116T130000
DTSTAMP:20260423T164325
CREATED:20231115T195438Z
LAST-MODIFIED:20231115T195438Z
UID:505-1700136000-1700139600@sites.rutgers.edu
SUMMARY:Rutgers Staff/Faculty Toastmasters Meeting
DESCRIPTION:Come out and join us for this week’s Rutgers Staff/Faculty Toastmasters Meeting! \nOur meetings are held every first Wednesday and Third Thursday of the Month at Noon!
URL:https://sites.rutgers.edu/toastmasters/event/rutgers-staff-faculty-toastmasters-meeting/
LOCATION:33 Knightsbridge Road\, Piscataway\, NJ 08854\, 33 Knightsbridge Road\, Piscataway\, NJ\, 08854\, United States
END:VEVENT
END:VCALENDAR