BEGIN:VCALENDAR
VERSION:2.0
PRODID:-//Toastmasters Club  - ECPv6.7.0//NONSGML v1.0//EN
CALSCALE:GREGORIAN
METHOD:PUBLISH
X-WR-CALNAME:Toastmasters Club 
X-ORIGINAL-URL:https://sites.rutgers.edu/toastmasters
X-WR-CALDESC:Events for Toastmasters Club 
REFRESH-INTERVAL;VALUE=DURATION:PT1H
X-Robots-Tag:noindex
X-PUBLISHED-TTL:PT1H
BEGIN:VTIMEZONE
TZID:UTC
BEGIN:STANDARD
TZOFFSETFROM:+0000
TZOFFSETTO:+0000
TZNAME:UTC
DTSTART:20230101T000000
END:STANDARD
END:VTIMEZONE
BEGIN:VEVENT
DTSTART;TZID=UTC:20231129T080000
DTEND;TZID=UTC:20231129T170000
DTSTAMP:20260421T144834
CREATED:20231129T183838Z
LAST-MODIFIED:20231129T183844Z
UID:534-1701244800-1701277200@sites.rutgers.edu
SUMMARY:Toastmasters Officers Meeting
DESCRIPTION:RSTC meeting is held every 1st Monday of the month at 12pm\, EST.
URL:https://sites.rutgers.edu/toastmasters/event/toastmasters-officers-meeting/
LOCATION:NJ
END:VEVENT
END:VCALENDAR